BEGIN:VCALENDAR
VERSION:2.0
PRODID:LFV Website-Kit
METHOD:PUBLISH
BEGIN:VEVENT
UID:lfv-74ffaca8-a432-4f4f-9683-7d91c9b3c084
LOCATION:
SUMMARY:1. Jugendübung im Mai
DESCRIPTION:Für alle Jugendlichen der FF Petershausen. !!!Neueinsteiger sind jederzeit herzlich willkommen!!!\n\nTermin Link: http://petershausen.feuerwehren.bayern/termine/1-jugendubung-im-mai/
URL:http://petershausen.feuerwehren.bayern/termine/1-jugendubung-im-mai/
CLASS:PRIVATE
DTSTART;TZID=Europe/Berlin:20260505T190000
DTEND;TZID=Europe/Berlin:20260505T200000
DTSTAMP:20260421T202156Z
END:VEVENT
END:VCALENDAR