BEGIN:VCALENDAR
VERSION:2.0
PRODID:LFV Website-Kit
METHOD:PUBLISH
BEGIN:VEVENT
UID:lfv-43e47ac4-d7a2-43de-822d-fd771fd4d9b0
LOCATION:
SUMMARY:2. Jugendübung im Mai
DESCRIPTION:Für alle Jugendlichen der FF Petershausen. !!!Neueinsteiger sind jederzeit herzlich willkommen!!!\n\nTermin Link: http://petershausen.feuerwehren.bayern/termine/2-jugendubung-im-mai/
URL:http://petershausen.feuerwehren.bayern/termine/2-jugendubung-im-mai/
CLASS:PRIVATE
DTSTART;TZID=Europe/Berlin:20260519T190000
DTEND;TZID=Europe/Berlin:20260519T200000
DTSTAMP:20260421T202802Z
END:VEVENT
END:VCALENDAR