BEGIN:VCALENDAR
VERSION:2.0
PRODID:LFV Website-Kit
METHOD:PUBLISH
BEGIN:VEVENT
UID:lfv-7e085740-39b2-470b-ab53-a1813247be5a
LOCATION:Kirchstraße 32 85238 Petershausen
SUMMARY:Feuerwehr-Stammtisch im Mai
DESCRIPTION:Treffpunkt am Feuerwehrhaus\n\nTermin Link: http://petershausen.feuerwehren.bayern/termine/feuerwehr-stammtisch-im-mai/
URL:http://petershausen.feuerwehren.bayern/termine/feuerwehr-stammtisch-im-mai/
CLASS:PRIVATE
DTSTART;TZID=Europe/Berlin:20260508T190000
DTEND;TZID=Europe/Berlin:20260508T200000
DTSTAMP:20260421T202915Z
END:VEVENT
END:VCALENDAR