BEGIN:VCALENDAR
VERSION:2.0
PRODID:LFV Website-Kit
METHOD:PUBLISH
BEGIN:VEVENT
UID:lfv-22384f3d-4ba7-42d1-afd8-715fd0afee78
LOCATION:
SUMMARY:GF Sitzung im Mai
DESCRIPTION:Monatliche Besprechung für alle ZF, GF und GW\n\nTermin Link: http://petershausen.feuerwehren.bayern/termine/gf-sitzung-im-mai/
URL:http://petershausen.feuerwehren.bayern/termine/gf-sitzung-im-mai/
CLASS:PRIVATE
DTSTART;TZID=Europe/Berlin:20260518T190000
DTEND;TZID=Europe/Berlin:20260518T200000
DTSTAMP:20260421T202307Z
END:VEVENT
END:VCALENDAR