BEGIN:VCALENDAR
VERSION:2.0
PRODID:LFV Website-Kit
METHOD:PUBLISH
BEGIN:VEVENT
UID:lfv-35c65753-3f55-4b2a-914c-6efed549f824
LOCATION:
SUMMARY:MTA Ausbildung (10. Block)
DESCRIPTION:Theoretische Ausbildung für das MTA-Basismodul\n\nTermin Link: http://petershausen.feuerwehren.bayern/termine/mta-ausbildung-10-block/
URL:http://petershausen.feuerwehren.bayern/termine/mta-ausbildung-10-block/
CLASS:PRIVATE
DTSTART;TZID=Europe/Berlin:20260513T190000
DTEND;TZID=Europe/Berlin:20260513T200000
DTSTAMP:20260421T202619Z
END:VEVENT
END:VCALENDAR