BEGIN:VCALENDAR
VERSION:2.0
PRODID:LFV Website-Kit
METHOD:PUBLISH
BEGIN:VEVENT
UID:lfv-248c3324-7415-4876-ab3c-9cf3386fd636
LOCATION:Florianstraße 1 85238 Petershausen
SUMMARY:MTA Ausbildung (7. Block)
DESCRIPTION:Theoretische Ausbildung für das MTA-Basismodul\n\nTermin Link: http://petershausen.feuerwehren.bayern/termine/mta-ausbildung-7-block/
URL:http://petershausen.feuerwehren.bayern/termine/mta-ausbildung-7-block/
CLASS:PRIVATE
DTSTART;TZID=Europe/Berlin:20260422T190000
DTEND;TZID=Europe/Berlin:20260422T200000
DTSTAMP:20260421T202710Z
END:VEVENT
END:VCALENDAR