BEGIN:VCALENDAR
VERSION:2.0
PRODID:LFV Website-Kit
METHOD:PUBLISH
BEGIN:VEVENT
UID:lfv-0d064c78-e79f-4e88-b9d4-2f094c9fadd3
LOCATION:Florianstraße 1 85238 Petershausen
SUMMARY:MTA Ausbildung (8. Block)
DESCRIPTION:Theoretische Ausbildung für das MTA-Basismodul\n\nTermin Link: http://petershausen.feuerwehren.bayern/termine/mta-ausbildung-8-block/
URL:http://petershausen.feuerwehren.bayern/termine/mta-ausbildung-8-block/
CLASS:PRIVATE
DTSTART;TZID=Europe/Berlin:20260429T190000
DTEND;TZID=Europe/Berlin:20260429T200000
DTSTAMP:20260421T202611Z
END:VEVENT
END:VCALENDAR