BEGIN:VCALENDAR
VERSION:2.0
PRODID:LFV Website-Kit
METHOD:PUBLISH
BEGIN:VEVENT
UID:lfv-290116f3-8642-4bbd-84f2-57b2460f95ac
LOCATION:
SUMMARY:MTA Ausbildung (9. Block)
DESCRIPTION:Theoretische Ausbildung für das MTA-Basismodul\n\nTermin Link: http://petershausen.feuerwehren.bayern/termine/mta-ausbildung-9-block/
URL:http://petershausen.feuerwehren.bayern/termine/mta-ausbildung-9-block/
CLASS:PRIVATE
DTSTART;TZID=Europe/Berlin:20260506T190000
DTEND;TZID=Europe/Berlin:20260506T200000
DTSTAMP:20260421T202619Z
END:VEVENT
END:VCALENDAR