BEGIN:VCALENDAR
VERSION:2.0
PRODID:LFV Website-Kit
METHOD:PUBLISH
BEGIN:VEVENT
UID:lfv-1ce15999-1e83-4cfd-8541-050b5739e120
LOCATION:
SUMMARY:Übung der Gruppen 1 & 2 im Mai
DESCRIPTION:Übung ausschließlich für die Gruppen 1 & 2\n\nTermin Link: http://petershausen.feuerwehren.bayern/termine/ubung-der-gruppen-1-2-im-mai/
URL:http://petershausen.feuerwehren.bayern/termine/ubung-der-gruppen-1-2-im-mai/
CLASS:PRIVATE
DTSTART;TZID=Europe/Berlin:20260504T190000
DTEND;TZID=Europe/Berlin:20260504T200000
DTSTAMP:20260421T202156Z
END:VEVENT
END:VCALENDAR