BEGIN:VCALENDAR
VERSION:2.0
PRODID:LFV Website-Kit
METHOD:PUBLISH
BEGIN:VEVENT
UID:lfv-61e930b4-5619-476c-a156-a9df5fa37f28
LOCATION:
SUMMARY:Übung der Gruppen 3 & 4 im Mai
DESCRIPTION:Übung ausschließlich für die Gruppen 3 & 4\n\nTermin Link: http://petershausen.feuerwehren.bayern/termine/ubung-der-gruppen-3-4-im-mai/
URL:http://petershausen.feuerwehren.bayern/termine/ubung-der-gruppen-3-4-im-mai/
CLASS:PRIVATE
DTSTART;TZID=Europe/Berlin:20260512T190000
DTEND;TZID=Europe/Berlin:20260512T200000
DTSTAMP:20260421T201337Z
END:VEVENT
END:VCALENDAR