BEGIN:VCALENDAR
VERSION:2.0
PRODID:LFV Website-Kit
METHOD:PUBLISH
BEGIN:VEVENT
UID:lfv-d190b82e-f74f-4d47-9eff-e07919a4a0bd
LOCATION:
SUMMARY:Übung der Gruppen 5 & 6 im Mai
DESCRIPTION:Übung für die Gruppen 5 & 6\n\nTermin Link: http://petershausen.feuerwehren.bayern/termine/ubung-der-gruppen-5-6-im-mai/
URL:http://petershausen.feuerwehren.bayern/termine/ubung-der-gruppen-5-6-im-mai/
CLASS:PRIVATE
DTSTART;TZID=Europe/Berlin:20260521T190000
DTEND;TZID=Europe/Berlin:20260521T200000
DTSTAMP:20260421T202859Z
END:VEVENT
END:VCALENDAR